BEGIN:VCALENDAR
VERSION:2.0
PRODID:-//Altera Vita - ECPv6.0.0.1//NONSGML v1.0//EN
CALSCALE:GREGORIAN
METHOD:PUBLISH
X-ORIGINAL-URL:https://alteravita.de
X-WR-CALDESC:Veranstaltungen für Altera Vita
REFRESH-INTERVAL;VALUE=DURATION:PT1H
X-Robots-Tag:noindex
X-PUBLISHED-TTL:PT1H
BEGIN:VTIMEZONE
TZID:UTC
BEGIN:STANDARD
TZOFFSETFROM:+0000
TZOFFSETTO:+0000
TZNAME:UTC
DTSTART:20250101T000000
END:STANDARD
END:VTIMEZONE
BEGIN:VEVENT
DTSTART;TZID=UTC:20250920T100000
DTEND;TZID=UTC:20250921T180000
DTSTAMP:20260419T185949
CREATED:20250511T093601Z
LAST-MODIFIED:20250511T093652Z
UID:412-1758362400-1758477600@alteravita.de
SUMMARY:STAUFERMARKT
DESCRIPTION:
URL:https://alteravita.de/event/staufermarkt/
LOCATION:Kloster Lorch\, Klosterstraße 2\, Lorch\, Baden Würtemberg\, 73547\, Deutschland
END:VEVENT
END:VCALENDAR