BEGIN:VCALENDAR
VERSION:2.0
PRODID:-//Altera Vita - ECPv6.0.0.1//NONSGML v1.0//EN
CALSCALE:GREGORIAN
METHOD:PUBLISH
X-ORIGINAL-URL:https://alteravita.de
X-WR-CALDESC:Veranstaltungen für Altera Vita
REFRESH-INTERVAL;VALUE=DURATION:PT1H
X-Robots-Tag:noindex
X-PUBLISHED-TTL:PT1H
BEGIN:VTIMEZONE
TZID:UTC
BEGIN:STANDARD
TZOFFSETFROM:+0000
TZOFFSETTO:+0000
TZNAME:UTC
DTSTART:20260101T000000
END:STANDARD
END:VTIMEZONE
BEGIN:VEVENT
DTSTART;TZID=UTC:20260514T110000
DTEND;TZID=UTC:20260517T190000
DTSTAMP:20260419T165625
CREATED:20251001T120354Z
LAST-MODIFIED:20251001T121441Z
UID:439-1778756400-1779044400@alteravita.de
SUMMARY:Grünauer Rittertage
DESCRIPTION:
URL:https://alteravita.de/event/gruenauer-rittertage-2/
LOCATION:Neuburg a. d. Donau\, Grünau 1\, 63863 Neuburg an der Donau\, Deutschland
END:VEVENT
END:VCALENDAR